BEGIN:VCALENDAR
VERSION:2.0
PRODID:-//Efterskolerne i Syd&oslash;stjylland - ECPv6.15.17.1//NONSGML v1.0//EN
CALSCALE:GREGORIAN
METHOD:PUBLISH
X-WR-CALNAME:Efterskolerne i Syd&oslash;stjylland
X-ORIGINAL-URL:https://eis-efterskolerne.dk
X-WR-CALDESC:Begivenheder for Efterskolerne i Syd&oslash;stjylland
REFRESH-INTERVAL;VALUE=DURATION:PT1H
X-Robots-Tag:noindex
X-PUBLISHED-TTL:PT1H
BEGIN:VTIMEZONE
TZID:Europe/Copenhagen
BEGIN:DAYLIGHT
TZOFFSETFROM:+0100
TZOFFSETTO:+0200
TZNAME:CEST
DTSTART:20250330T010000
END:DAYLIGHT
BEGIN:STANDARD
TZOFFSETFROM:+0200
TZOFFSETTO:+0100
TZNAME:CET
DTSTART:20251026T010000
END:STANDARD
BEGIN:DAYLIGHT
TZOFFSETFROM:+0100
TZOFFSETTO:+0200
TZNAME:CEST
DTSTART:20260329T010000
END:DAYLIGHT
BEGIN:STANDARD
TZOFFSETFROM:+0200
TZOFFSETTO:+0100
TZNAME:CET
DTSTART:20261025T010000
END:STANDARD
BEGIN:DAYLIGHT
TZOFFSETFROM:+0100
TZOFFSETTO:+0200
TZNAME:CEST
DTSTART:20270328T010000
END:DAYLIGHT
BEGIN:STANDARD
TZOFFSETFROM:+0200
TZOFFSETTO:+0100
TZNAME:CET
DTSTART:20271031T010000
END:STANDARD
END:VTIMEZONE
BEGIN:VEVENT
DTSTART;VALUE=DATE:20261119
DTEND;VALUE=DATE:20261120
DTSTAMP:20260420T051449
CREATED:20251024T071439Z
LAST-MODIFIED:20251024T071439Z
UID:5080-1795046400-1795132799@eis-efterskolerne.dk
SUMMARY:Badmintonstævne
DESCRIPTION:
URL:https://eis-efterskolerne.dk/event/badmintonstaevne-4/
LOCATION:Brøruphus Efterskole\, Brøruphusvej 5\, Skanderborg\, 8660\, Danmark
END:VEVENT
END:VCALENDAR